Workbook

Sheet TABLA_01
C2: OPERATIVA: Sustituir aportes en azul, para situar las "básicas del Telescopio", "especificaciones de CCD" y para "Objeto a observar"
C3: obtener en la hoja "CONFIG", la mv, Ø escalado, distancia a Tierra, etc., para: OTRO, cada PLANETA, LUNA, SUNSPOT, o DEEP SKY en | X3: MESSIER
C4: CONFIGURACIÓN del TELESCOPIO | P4: PARA FOTOGRAFIAR y GRABAR VIDEOS
C5: Tipo y Modelo | D5: SCT | G5: CELESTRON | P5: OBJETO a observar y grabar | W5: Magnitud visual
C6: Básicos del Telescopio | D6: Ø Objetivo | G6: =$I$7/25.4 -> 8 | K6: =$K$7/25.4 -> 8 | P6: Programarlo en la hoja "CONFIG." | W6: -27,00 | X6: =$G$31 -> 21.231018
G7: 8 | I7: =25.4*G7 -> 203.2 | K7: =I7 -> 203.2 | P7: sunspots | R7: =IF($P$7="OTRO",'CONFIG.'!$K$70,IF($P$7="MARTE","",IF(P7="VENUS","retrógrado",(IF($P$7="SUNSPOTS",'CONFIG.'!$K$21,IF($P$7="SATURNO","",IF($P$7="JUPITER","",IF($P$7="LUNA",'CONFIG.'!$F$29,IF($P$7="DEEP SKY",'CONFIG.'!$K$62,IF($P$7="",'CONFIG.'!#REF!)))))))))) -> AR2585 | W7: =IF(P7="VENUS",'CONFIG.'!M37,IF(P7="OTRO",'CONFIG.'!M70,IF(P7="MARTE",'CONFIG.'!M43,IF(P7="SUNSPOTS",'CONFIG.'!M21,IF(P7="LUNA",'CONFIG.'!M29,IF(P7="SATURNO",'CONFIG.'!M55,IF(P7="JUPITER",'CONFIG.'!M49,IF(P7="DEEP SKY",'CONFIG.'!M62)))))))) -> -26.7
D8: DF | G8: 10 | I8: =I7*G8 -> 2032 | K8: =I8 -> 2032 | P8: =IF(P7="LUNA",'CONFIG.'!$G$29,"") | R8: =IF(P7="LUNA",'CONFIG.'!$K$29,"") | W8: =IF(P7="MARTE",'CONFIG.'!$G$43,IF(P7="OTRO",'CONFIG.'!$F$70,IF(P7="SATURNO",'CONFIG.'!$G$55,IF(P7="JUPITER",'CONFIG.'!$G$49,IF(P7="DEEP SKY",SQRT('CONFIG.'!$F$62^2+'CONFIG.'!$G$62^2),IF(P7="VENUS",'CONFIG.'!$G$37,""))))))
C9: MODOS de OBSERVACIÓN y/o GRABACIÓN | P9: =IF($P$7="OTRO",'CONFIG.'!$E$74,IF($P$7="MARTE",'CONFIG.'!$E$46,IF($P$7="SUNSPOTS",'CONFIG.'!$E$26,IF($P$7="LUNA",'CONFIG.'!$E$32,IF(P7="SATURNO",'CONFIG.'!E58,IF(P7="JUPITER",'CONFIG.'!E52,IF(P7="DEEP SKY",'CONFIG.'!$E$66,IF(P7="VENUS",'CONFIG.'!E40)))))))) -> 1903.0541 | R9: =IF($P$7="OTRO",'CONFIG.'!$G$72,IF($P$7="MARTE",'CONFIG.'!$F$44,IF($P$7="LUNA",'CONFIG.'!$F$30,IF($P$7="SUNSPOTS",'CONFIG.'!$H$24,IF($P$7="SATURNO",'CONFIG.'!$F$56,IF($P$7="JUPITER",'CONFIG.'!$F$50,IF($P$7="DEEP SKY",IF('CONFIG.'!E64>0,'CONFIG.'!G64,IF($P$7="DEEP SKY",IF('CONFIG.'!F64>0,'CONFIG.'!K64,IF($P$7="VENUS",'CONFIG.'!$F$38))))))))))) -> 1.5086945e+08 | W9: =IF($P$7="OTRO",'CONFIG.'!$P$70,IF($P$7="MARTE",'CONFIG.'!$P$43,IF($P$7="LUNA",'CONFIG.'!$P$29,IF($P$7="SUNSPOTS",'CONFIG.'!$P$21,IF($P$7="SATURNO",'CONFIG.'!$P$55,IF($P$7="JUPITER",'CONFIG.'!$P$49,IF($P$7="DEEP SKY",'CONFIG.'!$P$62,IF($P$7="",'CONFIG.'!#REF!,IF($P$7="VENUS",'CONFIG.'!$P$37))))))))) -> 41154
C10: Seleccionar el Modo de Observación | G10: MODO VISIÓN ORIGINAL (sustituir valores en azul) | K10: =IF($I$43="FP","con CCD en FOCO PRIMARIO (FP)","con CCD en PROYECCIÓN de OCULAR (PO)") -> con CCD en FOCO PRIMARIO (FP) | P10: Escala del SEEING ?/10 (p.e. anotar 6,5 y aparece 6,5 /10) | X10: 7.5
G12: MEJOR BUENA POBRE MALA | P12: PODER RESOLUTIVO: El Rayleigh (plate scale) indica depender del píxel y cuanto más pequeño más definición y de la DF para obtener la imagen. Para calcular la resolución, en un 8'' Ø es llegar a ± 2,5 ''arc / px para Deep Sky y hasta ± 0,5 ''arc / px en Planetarias. Con Seeing en su FWHM a máximo (en modo Foco Primario y a ± 7,5 / 10), de ± 4,0 "arc² siendo este valor, el común para Telescopios de aficionado con 8'' Ø en lugares aceptables para observación. Y cuanto mayor el Ø del objetivo, el impacto del FWHM será menor, permitiéndonos grabar más detalles.
C13: Relación focal F | G13: =IF($G$20=0,"df Ocular ?",$G$23/$I$7) -> 20 | K13: =$K$23/$K$7 -> 20
C14: Resolución en Visión y CCD | G14: =115.908/$I$7 -> 0.57041339 | K14: =206265*$D$40/10^3/$K$23 -> 0.19032819
C15: Seeing en su FWHM | G15: =((304.8/$G$7*5.81/G13*9/$D$40)*10/$X$10)*3.028112449 -> 107.24896 | K15: =(($D$40*10^-3/$K$7)*206265/$X$10*$M$40)*1.25 -> 3.8065637
C16: Poder separador | G16: =(1.22*546.7*10^(-9)*3.84*10^8/($G$7/10^3)) -> 32014.752 | K16: =(1.22*546.7*10^(-9)*3.84*10^8/($K$7/10^3)) -> 1260.4233
C17: CONFIGURACIÓN del TELESCOPIO
C18: Adicionales Red.Focal o Barlow | D18: Red. Focal 6,3 | G18: 0 | K18: =IF(P7="DEEP SKY",6.3,IF(G19>0,"-",IF(I43="po","-",G18))) -> -
D19: Barlow | G19: 2 | H19: =G19*5 -> 10 | K19: =IF($K$18>0,"-",IF(I43="PO","-",$G$19)) -> 2 | L19: =K19*5 -> 10 | P19: Y algo sobre las "ISO en DSLR": A mayor ISO más ruido y por ende más apilado para poder eliminarlo, y a menor ISO menos ruido, pero mas exposiciones. Una imagen con menor ISO, tiene rango dinámico más "limpio" y mejor detecta objetos débiles.
C20: Ocular | D20: df | E20: df en PO | G20: 30 | I20: 12.5 | K20: =IF($I$43="PO",$I$20,$G$20) -> 30
D21: Campo | G21: 52 | K21: =G21 -> 52
C22: TeleXtender dist. Ocu. Sensor | G22: =(IF($K$18>0,$K$8*$K$18/10,IF($K$19>0,$K$8*$K$19,$K$8))) -> 4064 | H22: =IF($K$18>0,$K$8*$K$18/10,IF($I$43="PO",$K$8*$I$22/$K$20)) -> FALSE | I22: 52.7 | K22: =IF($I$43="PO",$I$22,"-") -> -
C23: DFeq Effective focal length | G23: =IF($G$20=0,"?",IF($G$18>0,$I$8*$G$18/10,IF($G$19>0,$I$8*G19,$I$8))) -> 4064 | K23: =IF(I43="FP",$G$22,$H$22) -> 4064 | P23: La "RELACIÓN SEÑAL / RUIDO", cuanto más larga la exposición por unidad de tiempo, más información captará y el ruido del fondo de cielo tiende a fijo..., la distancia entre señal recibida y del ruido, aumentará la relación Señal / Ruido. Por tanto "Varias tomas mejor que una".
C24: Aumentos equivalentes | D24: en Ocular | G24: =IF($G$20=0,"-",IF(($G$23/$G$20)>$I$7*2.75,"Supera aumento",IF($G$20=0,"Ocular ?",$G$23/$G$20))) -> 135.46667 | K24: =IF($I$43="PO","-",$G$22/$G$20) -> 135.46667
D25: sobre CCD | G25: =IF($G$20=0,"Ocular df ?","") | K25: =IF(I43="PO",$K$23/$M$40,$G$22/$M$40) -> 677.33333
C26: Pupila de salida Teórica | G26: =IF($G$25="Ocular df ?","-",IF($G$20=0,"-",($G$7/$G$24))) -> 0.059055118 | K26: =IF($I$43="PO","-",$K$7/$K$24) -> 1.5
C27: Campo visión con Ocular | G27: =$G$21/$G$24 -> 0.38385827 | K27: =IF($I$43="PO","-",$G$21/$K$24) -> 0.38385827 | P27: SOBRE DURACIÓN DE CADA TOMA: Con las DSLR y para DEEP SKY es mejor 10 tomas de 600 seg c/u, que una de 6000 seg... porque tendería a saturarse y mejor que 100 de 60 seg c/u, ya que en este caso sería apilado de 100 imágenes con poca relación Señal / Ruido..... Pero para imágenes de la LUNA es otra cuestión dada su luminosidad. - RESUMEN cuanta menos “suciedad” mezclemos, mejor resultado conseguiremos y con los software..., máximos detalles conseguiremos.
C28: Plate Scale con CCD | K28: =206265/G22 -> 50.754183
C29: Máxima "Magnitud visual" y sobre CCD, para ese Ø del Telescopio y respecto al Seeing
C30: Magnitud visual Límite | E30: Visual | G30: =2.512+5*LOG($I$7) -> 14.051619 | K30: =G30 -> 14.051619
E31: CCD | G31: =7.5*LOG($K$23/$M$40) -> 21.231018 | K31: =G31 -> 21.231018
C32: Para fondo de cielo "FC" ver | G32: TABLA_06 | K32: dependiendo del FWHM
B33: 1 | C33: Filtro % Transferencia | G33: IR / CUT | M33: =0.95 -> 0.95 | P33: IMÁGENES del SOL - "SUNSPOTS" situar un Filtro / Solar con ref: DN 5 que reduce luminosidad ± 100.000 veces en objetivo del Buscador. Y para el objetivo del Telescopio en modo CCD, situar el filtro de ref. DN 3,8 que reduce ± 6.309 veces. | X33: =10^3.8 -> 6309.5734
C34: Para Observaciones Solares, p.e. sus Manchas "Sunspots", con magnitud visual del Sol | N34: =IF(P7="SUNSPOTS",$W$7,"-") -> -26.7 | X34: =LOG($X$33) -> 3.8
C35: Anteponer un "Filtro / Solar" en cada uno, en el objetivo del Buscador y en el del Telescopio | X35: =100-ABS(LOG(1/$X$34/100)) -> 97.420216
C36: En el Buscador el filtro tipo DN 5 y en el del Telescopio el filtro | K36: =IF($N$36="-","-",LOG($N$36)) -> 3.8 | L36: que reducirá ± | N36: =IF($W$7<=-20,$X$33,"-") -> 6309.5734 | P36: COMENTARIOS SOBRE OBTENIDOS
C37: ESPECIFICACIONES de la "CCD" y/o de la "DSLR" | P37: OCUPARÁ en la CCD: La imagen final a obtener, debería ocupar lo mismo que el Ø del chip de la CCD, es decir si la imagen es menor en 'arc que el tamaño del chip, ocupará la imagen un % respecto a la superficie del chip y si el tamaño aparente del Objeto es mayor que el sensor de la CCD, se verá recortada en un %, EJEMPLO: Ocupa 615,3% indica verse ± 1/6 del total.
C38: Marca y Modelo | G38: asi120mm-s
C39: Operando | D39: µm / píxel | G39: Chip Sensor | J39: ROI / píxeles | M39: Sensor Ø
C40: =J40 -> 1280 | D40: 3.75 | G40: =($J$40*$D$40/1000) -> 4.8 | J40: 1280 | M40: =(SQRT($G$40^2+$G$41^2)) -> 6
C41: =J41 -> 960 | G41: =($J$41*$D$40/1000) -> 3.6 | J41: 960 | P41: La CONFIGURACIÓN permite obtener una imagen con la relación FWHM / Resolución coloreada como MEJOR, siguiendo con menor calidad BUENA y luego como POBRE, es decir tendiendo a ± 3,5 veces como óptima y una resolución < ± 0,5 ''arc / px en Planetaria y ± 2,5 ''arc / px en DEEP SKY. El F.O.V. en "Foco Primario" o "Proyección de Ocular", indica si el Objeto "ENTRARÁ en la CCD", o si "se VERÁ PARCIALMENTE".
C42: GRABACIÓN del VÍDEO con "CCD"
C43: MODO GRABACIÓN en (FP) o (PO) | I43: fp | J43: =IF($I$43="FP","FOCO PRIMARIO",IF($I$43="PO","PROYECCIÓN OCULAR")) -> FOCO PRIMARIO
C44: Reducción de ruido, por el número de frames obtenidos | L44: =IF($G$49>0,SQRT($G$49),IF($G$50>0,SQRT($G$50))) -> 63.63961
C45: Grabación de vídeos por canal en modo B/N RGB L-RGB | L45: b/n
C46: =IF(L45="B/N","Tomas de vídeo x canal B/N",IF(L45="RGB","Tomas de vídeo x canal RGB",IF(L45="L-RGB","Tomas de vídeo x canal L-RGB"))) -> Tomas de vídeo x canal B/N | G46: =(IF(L45="RGB","-",IF($L$45="B/N",0,IF($L$45="L-RGB",$K$46)))) -> 0 | I46: =ROUND(IF($L$45="B/N","",($K$46*1.43)),0) -> 0 | K46: =IF(I43="PO",$M$47*20,C48*3.75) -> 9.375 | M46: =ROUND(IF($L$45="B/N",0,($K$46*1.82)),0) -> 0
C47: Velocidad Cuadro ± fps | G47: 0 | I47: =IF($G$47>0,$G$47,IF($P$7="DEEP SKY",5,IF($P$7="SUNSPOTS",30,IF($P$7="LUNA",30,IF($W$7<0,30,IF($W$7<4,15,IF($W$7<7,10,IF($W$7>7,5)))))))) -> 30 | K47: =((IF($L$45="B/N",$K$46*1,IF($L$45="RGB",($I$46+$K$46+$M$46)*1,IF($L$45="L-RGB",SUM($G$46:$M$46)*0.1)*$K$13)))) -> 9.375 | L47: {=(IF($L$45="B/N",$K$46*1,IF($L$45="RGB",SUM(($I$46:$M$46)*1,IF($L$45="L-RGB",SUM($G$46:$M$46))*$K$14))))} -> 9.375 | M47: =1/(ROUND(IF($I$43="PO",((IF($H$50>0,$H$50,(IF($W$7<=-20,0.5,IF($W$7<=-8,2,IF($W$7<5,2,IF($W$7>2,10,IF($W$7>5,20,IF($W$7>=10,30)))))))))/IF($N$36="-",$M$33,$M$33*1/LOG($N$36))/$K$14*0.233236)),0)) -> #DIV/0! | N47: =IF($G$52>0,"-",IF($W$7<=-20,15,IF($W$7>=-10,20,IF($W$7<=0,15,IF($W$7<=2,5,IF($W$7<=4,10,IF($W$7>4,20))))))) -> 15
C48: =7.5*(1/(ROUND(IF(I43="FP",((IF($H$50>0,$H$50,(IF($W$7<=-20,0.125,IF($W$7<0,1.25,IF($W$7>0,0.75,IF($W$7>4,0.5,IF($W$7>=10,0.25)))))))))/IF($N$36="-",$M$33,$M$33*1/LOG($N$36))/$K$14),0))) -> 2.5 | D48: =(INT((IF($L$45="B/N",$K$46*0.024922,IF($L$45="RGB",SUM($I$46:$N$46)*0.025547,IF($L$45="L-RGB",SUM($G$46:$N$46)*0.02567))))*$K$14)) -> 0 | E48: =IF($K$19=0,$K$47,$L$47) -> 9.375 | F48: =INT(IF(I43="PO",(IF($L$45="B/N",$K$46/4,IF($L$45="RGB",SUM($I$46:$M$46)*0.95,IF($L$45="L-RGB",SUM($G$46:$M$46))))),IF(I43="FP",(IF($L$45="B/N",$K$46*1,IF($L$45="RGB",SUM($I$46:$M$46)*1,IF($L$45="L-RGB",SUM($G$46:$M$46)))))))) -> 9 | G48: GRABACIONES PARA CADA VÍDEO Y CANAL
C49: =IF(C50="PLANETAS con ROTACIÓN","-","OBJETOS VARIOS") -> OBJETOS VARIOS | E49: =P7 -> sunspots | G49: =IF(G50>0,"-",IF(L45="B/N",I49*K49*M49*1,IF(L45="RGB",(I49*K49*M49)*1,IF(L45="L-RGB",(I49*K49*M49)*1)))) -> 4050 | I49: =IF(C49="-","-",ROUND(SUM(G46:M46),0)) -> 9 | K49: =IF($P$7="DEEP SKY",30,IF($P$7="","-",IF(K50>0,"-",ROUND($N$47,0)))) -> 15 | M49: =IF(C49="-","-",ROUND(I$47,0)) -> 30
C50: =IF(K50="-","-","PLANETAS con ROTACIÓN") -> - | G50: =(IF(C50="-","-",(IF($L$45="B/N",I50*K50*M50*1,IF($L$45="RGB",(I50*K50*M50)*1,IF($L$45="L-RGB",(I50*K50*M50)*1)))))) -> - | I50: =IF(C50="-","-",ROUND(SUM(G46:M46),0)) -> - | K50: =(IF(P7="OTRO","-",IF(P7="MARTE","-",IF($P$7="DEEP SKY","-",IF(P7="VENUS","-",IF($W$8="","-",IF($P$7="jupiter",ROUND($M$53,0),IF($P$7="saturno",ROUND($N$53,0))))))))) -> - | M50: =IF(C50="-","-",ROUND($I$47,0)) -> -
C52: DURARÁ en TOTAL la GRABACIÓN | H52: =IF(G49>0,H53,I53) -> 135 | J52: = ± | K52: =INT($H$52/3600) -> 0 | L52: =INT((($H$52/3600)-INT($H$52/3600))*60) -> 2 | M52: =(((((($H$52/3600)-INT($H$52/3600))*60)-INT((($H$52/3600)-INT($H$52/3600))*60))*60)) -> 15 | P52: Sobre "GRABACIONES PARA CADA VÍDEO Y CANAL"
H53: =(IF(G49>0,I49*K49)) -> 135 | I53: =(IF(G50>0,I50*K50)) -> FALSE | M53: =ROUND((('CONFIG.'!$F$50/'CONFIG.'!$E$49)/(206265/(2*PI()))*0.2*('CONFIG.'!$I$50*3600)/((PI())*(3600*(ATAN('CONFIG.'!$E$49/'CONFIG.'!$F$50)*360/(2*PI()))))),0) -> 10 | N53: =('CONFIG.'!$F$56/'CONFIG.'!$E$55)/(206265/(2*PI()))*0.2*('CONFIG.'!$I$56*3600)/((PI())*(3600*(ATAN('CONFIG.'!$E$55/'CONFIG.'!$F$56)*360/(2*PI())))) -> 45.838243 | P53: EJEMPLO: Grabaremos en RGB una imagen de Júpiter con SCT C8'', barlow x2 y cámara ASI120MM-S. - Al ser planeta, que gira rápido y que no salgan movidas las tomas, las grabaré a ± 8 seg c/u. - Esta Tabla_01 indica grabar 6 vídeos en canal R, 4 en G y 7 en B. - OBTENIDO: 6 v (R) de 8 s/cu + 4 v (G) de 8 s/cu + 7 v (B) de 8 s/cu = 136 seg.= 2 min 16 seg
C54: Field of View ''FOV'' H y V en 'arc | I54: =(($G$40*360*3600)/($G$22*2*PI()))/60 -> 4.0603308 | J54: =(($G$41*360*3600)/($G$22*2*PI()))/60 -> 3.0452481 | K54: =SQRT($I$54^2+$J$54^2) -> 5.0754135
K55: =(P9*206265/G20/10^4) -> 1308.4449 | L55: =IF(G57="OCU",IF(K55>G20,K55/G20,K55)) -> 43.614829 | M55: =(P9/M40) -> 317.17569 | N55: =IF(G57="CCD",IF(M55>M40,M55/M40,M55)) -> FALSE
C56: Si la imagen procesada, es superior a los grados del ocular, el objeto se verá parcialmente | Z56: =IF( (110.1990886) <30, 6,"") | AB56: =#REF!/100 -> #REF!
C57: =IF(G57="OCU","SE VERÁ EN EL OCU",IF(G57="CCD","OCUPARÁ EN LA CCD")) -> SE VERÁ EN EL OCU | G57: OCU | H57: =IF(G57="CCD",G38,G20) -> 30 | K57: =IF($G$57="OCU",$L$55,"-") -> 43.614829 | L57: =IF($G$57="OCU",(IF(K$55<$G$20,"mm",IF($K$55>$G$20,"%"))),"-") -> % | M57: =IF($G$57="CCD",$N$55,"-") -> - | N57: =IF($G$57="CCD",(IF(M$55<$G$20,"mm",IF($K$55>$G$20,"%"))),"-") -> -
C58: CONFIGURACIÓN DE LA HORA "UTC" AL INICIAR UNA SESIÓN DE OBSERVACIÓN, (En lugar de las clásicas -1h ó -2h para mayor precisión)
C59: Mi "Longitud E / W" al GMT | G59: 2 | H59: 8 | I59: 53.8 | J59: e | K59: = | L59: =$I$59/3600+$H$59/60+$G$59 -> 2.1482778 | N59: que equivale a | Q59: =($L$59/(360/24))+ABS(L61)-1 -> 1.1432185 | S59: =IF(J59="W","en UTC, SUMAR a LT","en UTC, RESTAR a LT") -> en UTC, RESTAR a LT | W59: =INT(Q59) -> 1 | X59: =IF((60-(((Q59-W59)*100)*60/100))=60,0,(60-(((Q59-W59)*100)*60/100))) -> 51.406889
C60: Corregirlo, anotando la diferencia del "horario local" ( LT ) a la del | O60: horario universal ( UTC ), para programar de la "Unidad de Control"
C61: Cambio de hora | E61: anotar ( -1 ) en Octubre y ( -2 ) en Marzo | L61: -2 | P61: actualizar F9 | R61: año d.C. | S61: mes | T61: día | U61: h | V61: m | W61: s | X61: formato
C62: modificar cada último domingo de Octubre y Marzo desde 1996 | P62: =IF(SUM(R62:W62)>0,"Completar...","Nueva UTC") -> Nueva UTC | X62: =IF(SUM(R62:W62)>0,"Borrar UTC","Fechar en UTC") -> Fechar en UTC
R63: Para actualizar valores, pulsar función > F9
P64: Hora UTC | R64: =IF($R$62="",YEAR(NOW()),$R$62) -> 2026 | S64: =IF(S62="",MONTH(NOW()),S62) -> 7 | T64: =IF(T62="",DAY(TODAY()),T62) -> 28 | U64: =IF(U62="",HOUR(NOW())+L61,U62+L61) -> 4 | V64: =IF(V62="",MINUTE(NOW()),V62) -> 56 | W64: =IF(W62="",SECOND(NOW()),W62) -> 22
P65: JD | R65: =IF($S$64=1,(INT($U$69*($R$64+4712))+INT($U$70*($S$64+1))+$T$64+((($U$64*3600)+($V$64*60)+($W$64))/($U$71*3600))+(2-(INT($R$64/100))+INT((INT($R$64/100))/4))-P70), IF($S$64=2,(INT($U$69*($R$64+4712))+INT($U$70*($S$64+1))+$T$64+((($U$64*3600)+($V$64*60)+($W$64))/($U$71*3600))+(2-(INT($R$64/100))+INT((INT($R$64/100))/4))-P70),(INT($U$69*($R$64+4712))+INT($U$70*($S$64+1))+$T$64+((($U$64*3600)+($V$64*60)+$W$64))/($U$71*3600))+(2-(INT($R$64/100))+INT((INT($R$64/100))/4))-P70)) -> 2461250.7 | X65: año
D66: https://www.astropractica.org | P66: DECIMAL | R66: =$R$64+($W$64/($X$70*$X$69*$U$71*$U$70*$U$69))+($V$64/($X$69*$U$71*$U$70*$U$69))+($U$64/($U$71*$U$70*$U$69))+($T$64/($U$70*$U$69))+($S$64/($U$69)) -> 2026.0217
C67: mailto: jmp.astropractica@gmail.com | R67: =$R$64 -> 2026 | S67: =$S$64 -> 7 | T67: =$T$64+($W$64/($X$70*$X$69*$U$71))+($V$64/($X$69*$U$71))+($U$64/($U$71)) -> 28.20581 | X67: día
K68: Actualizar esta tabla "01.xlsx" | R68: =$R$64 -> 2026 | S68: =$S$64 -> 7 | T68: =$T$64 -> 28 | U68: =$U$64+($V$64/($X$69))+($W$64/($X$69*$X$70)) -> 4.9394444 | X68: hora
C69: Para ACTUALIZAR Fecha y Hora - pulsar F9 | R69: UTC - España : Verano LT-2 Invierno LT-1 | S69: Bases Ref. | T69: año | U69: 365.25 | W69: hora | X69: 60
P70: 61.500004 | T70: mes | U70: =U69/12 -> 30.4375 | W70: min | X70: 60
P71: ´´´´´´´´´´´´´´´´´´´´´´´´´´´´´´´´´´´´´´´´´´´´´´´´´´´´´´´´´´´´´´´´´´´´´´´´´´´´´´´´´´´´´´´´´´´´´´´´´´´´´´´´´´´´´´´´´´´´´´´´´´´´´´´´´´´´´´´´´´´´´´´´´´´´´´´´´´´´´´´´´´´´´´´´´´´´´´´´´´´´´´´´´´´´´´´´´´´´´´´´´´´´´´´´´´´´´´´´´´´´´´´´´´´´´´´´´´´´´´´´´´´´ | T71: día | U71: 24 | W71: seg | X71: -
C72: Última actualización 24/06/2026 | I72: Bajar última versión de TABLA_01 y disfrutar de la actualización.
B74: Pass 1477

Sheet Hoja2

Sheet Hoja1

Sheet CONFIG.
C2: VERIFICACIONES sobre Monitor
C4: PRINCIPIO: Entendemos composición idónea en telescopios, aquella que aporte el mayor tamaño en % del Objeto fotografiado respecto a la pantalla del Monitor, más su calidad respecto al FWHM / Resolución y en resumen, la que obtendremos en la imagen final, con el máximo de detalles.
C6: Visionando en Monitor de 7" acoplado a la DSLR, o de TV conectando al PC mediante HDMI, la Carta de Ajuste "EIA 1956" para DSLR's, ya que las informaciones sobre barlows, reductores, etc., sobre sensores CCD, no siempre son exactas precisando factor corrector, en las fórmulas de aplicación para obtener una imagen, que refleje ciertamente las cotas del Objeto a fotografiar.
C8: Para verificarlo, utilizo el sensor de la CCD o DSLR acoplado al Telescopio (Celestrón 8'' Ø), con sus diversos adicionales posibles, situando a cierta distancia y uniformemente iluminada, la Carta de Ajuste "EIA 1956" de 0,250 m x 0,180 m situada a 14,32252 m, permitiendo una verificación de campo con 3600 ''arc = 1º, y para mayor precisión, la visiono en la pantalla milimetrada del monitor.
C11: ancho de la carta | E11: 0.25 | F11: Conocido lo que ocupa en la CCD y lo que teóricamente debe para conseguir 1º00'00'' de anchura = 3600 "arc, nos servirá para conocer si la Reductora de Focal, en principio sea de un 63% (las clásicas para SCT de 6,3) , etc. es la correcta con esa proporción o no. Lo mismo puede aplicarse para verificar las Barlow, del tipo x2 ó x3, etc.
C12: Distante hasta PC | E12: 14.32252
C13: atan ( Ø / Dist ) x 206265 = | E13: =ATAN($E$11/$E$12)*206265 -> 3599.9959
C14: APORTES PARA CONFIGURAR LA "TABLA_01"
C15: Aportes para situar en la "TABLA_01", y obtener resultados de la "F", sobre "Resolución", "segundos de arco en H y V", "Amplificación", "F.O.V.", "Nº de tomas a grabar", "Tiempo para grabación", etc.
C16: ANOTAR en "TABLA_01": SATURNO, JÚPITER, LUNA, SUNSPOTS (Manchas en SOL), MARTE, VENUS, o CIELO PROFUNDO
C17: NOTA: La distancia en Km y/o UA al objeto, está referida a la Tierra
C18: * OBJETOS SELECCIONADOS, PARA CONFIGURAR LA TABLA_01
C19: " SUNSPOTS " Manchas en el SOL
E20: Ø SOL | F20: H en imagen | G20: V en imagen | H20: Ø del gráfico SDO HMI
C21: ± Øeq ◄---► | E21: 1392000 | F21: 0.025 | G21: 0.01 | H21: 0.274 | K21: AR2585 | M21: -26.7 | P21: 41154
E22: Equivale a : | F22: =$F$21*$E$21/$H$21 -> 127007.3 | G22: 10 | H22: Equivalente en Km de las medidas de esa mancha
C23: ± Ø escalado | E23: 2.13158 | F23: Ø SOL obtenido de Stellarium | H23: Campo en "arc | K23: =F21*180/($E$21*10^3)*206265*3600 -> 2.4004978 | L23: =G21*180/($E$21*10^3)*206265*3600 -> 0.96019914 | M23: por grupo de manchas
C24: Distancia ± | E24: 1.0085 | F24: =149597870.69 -> 1.4959787e+08 | H24: =$E$24*$F$24 -> 1.5086945e+08
C25: Ocupará en H ± | E25: =E26/60 -> 31.717569 | F25: Los aportes conseguidos se situarán en la TABLA_01, anotando en élla simplemente SUNSPOTS
E26: =ATAN($E$21/$H$24)*206265 -> 1903.0541
C28: " LUNA "
C29: ± Øeq ◄---► | E29: 3474.8 | F29: Gibosa menguante | G29: 289.2 | I29: 66.5 | K29: 20.72 | M29: -10.78 | P29: 44688
C30: Distancia ± | E30: 0.002557 | F30: =$E$30*$F$24 -> 382521.76 | G30: 3.6417 | I30: Campo cubierto | K30: =$E$31/60*$F$31/180*3600 -> 52.04569 | L30: =$E$31/60*$G$31/180*3600 -> 52.04569 | M30: por el grupo de cráteres
C31: Ocupará en H ± | E31: =E32/60 -> 31.227414 | F31: 5 | G31: 5 | I31: Valores del campo seleccionado, obtenidos en las cartas
E32: =ATAN(E29/F30)*206265 -> 1873.6448 | F32: del enlace, para conseguir las cotas ºH y ºV pulsar en | K32: https://www.astropractica.org/ejem/s-solar/luna.pdf
E33: Ejem.: En las cartas del enlace 10º ocupan 40 mm, por tanto x mm del campo seleccionado, ocuparán yº tanto para el ancho, como para el alto de la imagen seleccionada, anotarlas. - Luego anotar en TABLA_01 simplemente LUNA
E35: PLANETAS:
C36: " VENUS "
C37: ± Øeq ◄---► | E37: 12103.6 | G37: 1.50358 | I37: 0 | J37: 14 | K37: VENUS | M37: -3.7 | P37: 44688
C38: Distancia ± | E38: 1.541 | F38: =E38*$F$24 -> 2.3053032e+08 | I38: =(I37+(J37*100/60)/100) -> 0.23333333
C39: Ocupará en H ± | E39: =E40/60 -> 0.18049318 | I39: -243 d retrógrada
E40: =(ATAN(E37/F38)*206265) -> 10.829591 | J40: Luego anotar en TABLA_01 simplemente VENUS
C42: " MARTE "
C43: ± Øeq ◄---► | E43: 6792.4 | G43: 0.56977 | I43: 24 | J43: 37 | K43: MARTE | M43: 1.5 | P43: 44688
C44: Distancia ± | E44: 2.283 | F44: =E44*$F$24 -> 3.4153194e+08 | I44: =(I43+(J43*100/60)/100) -> 24.616667
C45: Ocupará en H ± | E45: =E46/60 -> 0.068370101
E46: =(ATAN(E43/F44)*206265) -> 4.1022061 | F46: Luego anotar en TABLA_01 simplemente MARTE
C48: " JUPITER "
C49: ± Øeq ◄---► | E49: 142984 | G49: 5.219 | I49: 9 | J49: 55 | K49: JÚPITER | M49: -1.7 | P49: 44691
C50: Distancia ± | E50: 5.243 | F50: =$E$50*$F$24 -> 7.8434164e+08 | I50: =(I49+(J49*100/60)/100) -> 9.9166667
C51: Ocupará en H ± | E51: =E52/60 -> 0.62669533 | F51: Para obtener los grados CMI, CMII y CMIII | K51: http://www.pvol.ehu.es/pvol/tools.jsp?action=jdcm
E52: =(ATAN(E49/F50)*206265) -> 37.60172 | F52: Los aportes conseguidos se situarán en la TABLA_01, anotando en élla simplemente JÚPITER
C54: " SATURNO "
C55: ± Øeq ◄---► | E55: 120536 | G55: 5.88477 | I55: 10 | J55: 33 | K55: SATURNO | M55: 0.6 | P55: 44764
C56: Distancia ± | E56: 9.129 | F56: =$E$56*$F$24 -> 1.365679e+09 | I56: =(I55+(J55*100/60)/100) -> 10.55
C57: Ocupará en H ± | E57: =E58/60 -> 0.30341877 | F57: Para obtener los grados CMI y CMIII | K57: http://www.pvol.ehu.es/pvol/tools.jsp?action=jdcm
E58: =(ATAN($E$55/$F$56)*206265) -> 18.205126 | F58: Los aportes conseguidos se situarán en la TABLA_01, anotando en élla simplemente SATURNO
C60: * OBJETOS DEL CIELO PROFUNDO " DEEP SKY "
C61: " DEEP SKY " | F61: º Ø escalado… obtenido de Stellarium 25.1 | K61: nombrar objeto | M61: mv | P61: fecha
C62: ± Øeq ◄---► | F62: =11/60 -> 0.18333333 | G62: =7/60 -> 0.11666667 | K62: M41 - Messier | M62: 4.5 | P62: 44569
C63: Tipo unidad | E63: UA | F63: * aL | G63: UA a Km | K63: aL a Km
C64: Distancia ± | F64: 2316 | G64: =IF(E64=0,"",$E$64*$F$24) | K64: =IF(F64=0,"",F64*(9.46728*10^12)) -> 2.192622e+16
C65: Ocupará ± | D65: * | E65: =SQRT(F65^2+G65^2) -> 13.038405 | F65: =F62*60 -> 11 | G65: =G62*60 -> 7
E66: =E65*60 -> 782.30429 | F66: =F65*60 -> 660 | G66: =G65*60 -> 420
E67: Para obtener parámetros de OBJETOS de la tabla "MESSIER" ( * ), pulsar dn el enlace: | K67: https://astropractica.org/tem3/messier/messier.htm
C68: * OTRO OBJETO NO INCLUIDO EN ANTERIORES
C69: " OTRO " | E69: Ø | F69: º Ø escalado… obtenido de Stellarium 25.1 | I69: dura el día h:m | K69: nombrar objeto | M69: mv | P69: fecha
C70: ± Øeq ◄---► | E70: 525.4 | F70: 0.00072 | G70: 0.00072 | K70: VESTA asteroide | M70: 8.31 | P70: 44692
C71: Tipo unidad | E71: 1 | F71: * aL | G71: UA a Km | K71: aL a Km
C72: Distancia ± | E72: 2.796 | G72: =IF(E72=0,"",$E$72*$F$24) -> 4.1827565e+08 | K72: =IF(F72=0,"",F72*(9.46728*10^12))
C73: Ocupará ± | D73: * | E73: =E74/60 -> 2.0935158e-08 | F73: =F70*60 -> 0.0432 | G73: =G70*60 -> 0.0432
E74: =IF(G72>0,E70/G72,IF(K72>0,SQRT(F74^2+G74^2))) -> 1.2561095e-06 | F74: =F73*60 -> 2.592 | G74: =G73*60 -> 2.592
B77: Valores identificativos para ese objeto a observar en fecha concreta, obtenidos en CONFIG desde el software "Stellarium 25.1"
C79: Ültima actualización | E79: =TODAY() -> 44769
C80: Revisar | E80: 1477
C81: Cnt+L | E81: Buscar o Renombrar

Sheet Características CCD o DSLR
B2: CARACTERISTICAS de CAMARAS DIGITALES
B3: Relación de Cámaras "DSLR" y "Específicas"
B4: Sensores Fullframe SONY | D4: --- | U4: Sensores: KODAK (KAF) SONY (ICX) | V4: ADICIONALES
B5: Sensores Fullframe KODAK | D5: http://www.kodak.com/global/en/business/ISS/Products/Fullframe/ | V5: nº px (en H) = Hmm / (pxµm /10^3)
B6: Marcas | C6: Modelo enlace a URL | D6: Chip-Sensor en mm | H6: ref.Cám. 36 mm | I6: nº Effective Píxels Hriz. Vert. y total | M6: Pixel µm
D7: Tipo | E7: H | F7: V | G7: Ø
B8: APOGEE | C8: AP32ME | D8: CCD | E8: =M8*10^(-3)*I8 -> 14.8988 | F8: =O8*10^(-3)*K8 -> 10.0028 | G8: =SQRT(E8^2+F8^2) -> 17.945201 | H8: =IF(E8=0,"",SQRT((36^2)+(24^2))/SQRT((E8^2)+(F8^2))) -> 2.411041 | I8: 2191 | J8: x | K8: 1471 | L8: =IF(H8=0,"",I8*K8/10^6) -> 3.222961 | M8: 6.8 | N8: x | O8: 6.8 | P8: =E8/(M8*10^(-3)) -> 2191 | Q8: x | R8: =F8/(O8*10^(-3)) -> 1471 | S8: =P8-I8 -> 0 | T8: =R8-K8 -> 0
B9: APOGEE | C9: AP4 | D9: CCD | E9: =M9*10^(-3)*I9 -> 18.396 | F9: =O9*10^(-3)*K9 -> 18.396 | G9: =SQRT(E9^2+F9^2) -> 26.015873 | H9: =IF(E9=0,"",SQRT((36^2)+(24^2))/SQRT((E9^2)+(F9^2))) -> 1.6630853 | I9: 2044 | J9: x | K9: 2044 | L9: =IF(H9=0,"",I9*K9/10^6) -> 4.177936 | M9: 9 | N9: x | O9: 9 | P9: =E9/(M9*10^(-3)) -> 2044 | Q9: x | R9: =F9/(O9*10^(-3)) -> 2044 | S9: =P9-I9 -> 0 | T9: =R9-K9 -> 0
B10: APOGEE | C10: AP9E | D10: CCD | E10: =M10*10^(-3)*I10 -> 27.603 | F10: =O10*10^(-3)*K10 -> 18.396 | G10: =SQRT(E10^2+F10^2) -> 33.171349 | H10: =IF(E10=0,"",SQRT((36^2)+(24^2))/SQRT((E10^2)+(F10^2))) -> 1.3043369 | I10: 3067 | J10: x | K10: 2044 | L10: =IF(H10=0,"",I10*K10/10^6) -> 6.268948 | M10: 9 | N10: x | O10: 9 | P10: =E10/(M10*10^(-3)) -> 3067 | Q10: x | R10: =F10/(O10*10^(-3)) -> 2044 | S10: =P10-I10 -> 0 | T10: =R10-K10 -> 0
B11: ARTEMIS | C11: ART285C | D11: CCD | E11: =M11*10^(-3)*I11 -> 8.99775 | F11: =O11*10^(-3)*K11 -> 6.70155 | G11: =SQRT(E11^2+F11^2) -> 11.219192 | H11: =IF(E11=0,"",SQRT((36^2)+(24^2))/SQRT((E11^2)+(F11^2))) -> 3.8564822 | I11: 1395 | J11: x | K11: 1039 | L11: =IF(H11=0,"",I11*K11/10^6) -> 1.449405 | M11: 6.45 | N11: x | O11: 6.45 | P11: =E11/(M11*10^(-3)) -> 1395 | Q11: x | R11: =F11/(O11*10^(-3)) -> 1039 | S11: =P11-I11 -> 0 | T11: =R11-K11 -> 0 | U11: ICX285AL
B12: ARTEMIS | C12: ART4021 | D12: CCD | E12: =M12*10^(-3)*I12 -> 15.1552 | F12: =O12*10^(-3)*K12 -> 15.1552 | G12: =SQRT(E12^2+F12^2) -> 21.432689 | H12: =IF(E12=0,"",SQRT((36^2)+(24^2))/SQRT((E12^2)+(F12^2))) -> 2.0187208 | I12: 2048 | J12: x | K12: 2048 | L12: =IF(H12=0,"",I12*K12/10^6) -> 4.194304 | M12: 7.4 | N12: x | O12: 7.4 | P12: =E12/(M12*10^(-3)) -> 2048 | Q12: x | R12: =F12/(O12*10^(-3)) -> 2048 | S12: =P12-I12 -> 0 | T12: =R12-K12 -> 0
B13: ATIK | C13: ATK1CII | D13: CCD | E13: =M13*10^(-3)*I13 -> 3.584 | F13: =O13*10^(-3)*K13 -> 2.688 | G13: =SQRT(E13^2+F13^2) -> 4.48 | H13: =IF(E13=0,"",SQRT((36^2)+(24^2))/SQRT((E13^2)+(F13^2))) -> 9.6577266 | I13: 640 | J13: x | K13: 480 | L13: =IF(H13=0,"",I13*K13/10^6) -> 0.3072 | M13: 5.6 | N13: x | O13: 5.6 | P13: =E13/(M13*10^(-3)) -> 640 | Q13: x | R13: =F13/(O13*10^(-3)) -> 480 | S13: =P13-I13 -> 0 | T13: =R13-K13 -> 0 | U13: ICX098BQ
B14: ATIK | C14: ATK1HS | D14: CCD | E14: =M14*10^(-3)*I14 -> 3.584 | F14: =O14*10^(-3)*K14 -> 2.688 | G14: =SQRT(E14^2+F14^2) -> 4.48 | H14: =IF(E14=0,"",SQRT((36^2)+(24^2))/SQRT((E14^2)+(F14^2))) -> 9.6577266 | I14: 640 | J14: x | K14: 480 | L14: =IF(H14=0,"",I14*K14/10^6) -> 0.3072 | M14: 5.6 | N14: x | O14: 5.6 | U14: ICX098BQ
B15: ATIK | C15: ATK16IC | D15: CCD | E15: =M15*10^(-3)*I15 -> 4.8766 | F15: =O15*10^(-3)*K15 -> 3.6556 | G15: =SQRT(E15^2+F15^2) -> 6.0946402 | H15: =IF(E15=0,"",SQRT((36^2)+(24^2))/SQRT((E15^2)+(F15^2))) -> 7.0991255 | I15: 659 | J15: x | K15: 494 | L15: =IF(H15=0,"",I15*K15/10^6) -> 0.325546 | M15: 7.4 | N15: x | O15: 7.4 | P15: =E15/(M15*10^(-3)) -> 659 | Q15: x | R15: =F15/(O15*10^(-3)) -> 494 | S15: =P15-I15 -> 0 | T15: =R15-K15 -> 0 | U15: ICX424AL
B16: ATIK | C16: ATK16HRC | D16: CCD | E16: =M16*10^(-3)*I16 -> 8.9784 | F16: =O16*10^(-3)*K16 -> 6.708 | G16: =SQRT(E16^2+F16^2) -> 11.207539 | H16: =IF(E16=0,"",SQRT((36^2)+(24^2))/SQRT((E16^2)+(F16^2))) -> 3.8604921 | I16: 1392 | J16: x | K16: 1040 | L16: =IF(H16=0,"",I16*K16/10^6) -> 1.44768 | M16: 6.45 | N16: x | O16: 6.45 | P16: =E16/(M16*10^(-3)) -> 1392 | Q16: x | R16: =F16/(O16*10^(-3)) -> 1040 | S16: =P16-I16 -> 0 | T16: =R16-K16 -> 0 | U16: ICX285AL
B17: ATIK | C17: ATK 383L+ | D17: CCD | E17: =M17*10^(-3)*I17 -> 17.9604 | F17: =O17*10^(-3)*K17 -> 13.5216 | G17: =SQRT(E17^2+F17^2) -> 22.481317 | H17: =IF(E17=0,"",SQRT((36^2)+(24^2))/SQRT((E17^2)+(F17^2))) -> 1.9245587 | I17: 3326 | J17: x | K17: 2504 | L17: =IF(H17=0,"",I17*K17/10^6) -> 8.328304 | M17: 5.4 | N17: x | O17: 5.4 | U17: KAF8300CE
B18: BASLER | C18: acA640-90 | D18: CCD | E18: =M18*10^(-3)*I18 -> 4.7952 | F18: =O18*10^(-3)*K18 -> 3.6112 | G18: =SQRT(E18^2+F18^2) -> 6.0028917 | H18: =IF(E18=0,"",SQRT((36^2)+(24^2))/SQRT((E18^2)+(F18^2))) -> 7.2076289 | I18: 648 | J18: x | K18: 488 | L18: =IF(H18=0,"",I18*K18/10^6) -> 0.316224 | M18: 7.4 | N18: x | O18: 7.4 | U18: ICX424 | V18: avi 82fps
B19: CANON | C19: EOS 300D | D19: CMOS | E19: =M19*10^(-3)*I19 -> 19.72224 | F19: =O19*10^(-3)*K19 -> 13.14816 | G19: =SQRT(E19^2+F19^2) -> 23.703183 | H19: =IF(E19=0,"",SQRT((36^2)+(24^2))/SQRT((E19^2)+(F19^2))) -> 1.8253505 | I19: 3072 | J19: x | K19: 2048 | L19: =IF(H19=0,"",I19*K19/10^6) -> 6.291456 | M19: 6.42 | N19: x | O19: 6.42 | P19: =E19/(M19*10^(-3)) -> 3072 | Q19: x | R19: =F19/(O19*10^(-3)) -> 2048 | S19: =P19-I19 -> 0 | T19: =R19-K19 -> 0
B20: CANON | C20: EOS 350D | D20: CMOS | E20: =M20*10^(-3)*I20 -> 22.20036 | F20: =O20*10^(-3)*K20 -> 14.7981 | G20: =SQRT(E20^2+F20^2) -> 26.680325 | H20: =IF(E20=0,"",SQRT((36^2)+(24^2))/SQRT((E20^2)+(F20^2))) -> 1.6216675 | I20: 3458 | J20: x | K20: 2305 | L20: =IF(H20=0,"",I20*K20/10^6) -> 7.97069 | M20: 6.42 | N20: x | O20: 6.42 | P20: =E20/(M20*10^(-3)) -> 3458 | Q20: x | R20: =F20/(O20*10^(-3)) -> 2305 | S20: =P20-I20 -> 0 | T20: =R20-K20 -> 0
B21: CANON | C21: EOS 400D | D21: CMOS | E21: =M21*10^(-3)*I21 -> 24.96096 | F21: =O21*10^(-3)*K21 -> 16.64064 | G21: =SQRT(E21^2+F21^2) -> 29.99934 | H21: =IF(E21=0,"",SQRT((36^2)+(24^2))/SQRT((E21^2)+(F21^2))) -> 1.4422522 | I21: 3888 | J21: x | K21: 2592 | L21: =IF(H21=0,"",I21*K21/10^6) -> 10.077696 | M21: 6.42 | N21: x | O21: 6.42
B22: CANON | C22: EOS 450D | D22: CMOS | E22: 22.2 | F22: 14.8 | G22: =SQRT(E22^2+F22^2) -> 26.681079 | H22: =IF(E22=0,"",SQRT((36^2)+(24^2))/SQRT((E22^2)+(F22^2))) -> 1.6216216 | I22: 4272 | J22: x | K22: 2848 | L22: =IF(H22=0,"",I22*K22/10^6) -> 12.166656 | M22: 6.42 | N22: x | O22: 6.42
B23: CANON | C23: EOS 5D II | D23: CMOS | E23: =M23*10^(-3)*I23 -> 36.05472 | F23: =O23*10^(-3)*K23 -> 24.03648 | G23: =SQRT(E23^2+F23^2) -> 43.332381 | H23: =IF(E23=0,"",SQRT((36^2)+(24^2))/SQRT((E23^2)+(F23^2))) -> 0.99848231 | I23: 5616 | J23: x | K23: 3744 | L23: =IF(H23=0,"",I23*K23/10^6) -> 21.026304 | M23: 6.42 | N23: x | O23: 6.42 | V23: avi 30fps | W23: 1920 | X23: x | Y23: 1080 | Z23: =IF(V23=0,"",W23*Y23/10^6) -> 2.0736
B24: CANON | C24: EOS 550 D | D24: CMOS | E24: 22.3 | F24: 14.9 | G24: =SQRT(E24^2+F24^2) -> 26.819769 | H24: =IF(E24=0,"",SQRT((36^2)+(24^2))/SQRT((E24^2)+(F24^2))) -> 1.613236 | I24: 5184 | J24: x | K24: 3456 | L24: =IF(H24=0,"",I24*K24/10^6) -> 17.915904 | M24: 6.42 | N24: x | O24: 6.42
B25: CANON | C25: EOS 1000 | D25: CMOS | E25: =M25*10^(-3)*I25 -> 24.96096 | F25: =O25*10^(-3)*K25 -> 16.64064 | G25: =SQRT(E25^2+F25^2) -> 29.99934 | H25: =IF(E25=0,"",SQRT((36^2)+(24^2))/SQRT((E25^2)+(F25^2))) -> 1.4422522 | I25: 3888 | J25: x | K25: 2592 | L25: =IF(H25=0,"",I25*K25/10^6) -> 10.077696 | M25: 6.42 | N25: x | O25: 6.42
B26: CANON | C26: EOS 1200 D | D26: CMOS | E26: 22.3 | F26: 14.9 | G26: =SQRT(E26^2+F26^2) -> 26.819769 | H26: =IF(E26=0,"",SQRT((36^2)+(24^2))/SQRT((E26^2)+(F26^2))) -> 1.613236 | I26: =E26*10^3/M26 -> 3473.5202 | J26: x | K26: =F26*10^3/O26 -> 2320.8723 | L26: =IF(H26=0,"",I26*K26/10^6) -> 8.0615968 | M26: 6.42 | N26: x | O26: 6.42
B27: JG_Peltier | C27: 1004 X | D27: CCD | E27: =M27*10^(-3)*I27 -> 3.584 | F27: =O27*10^(-3)*K27 -> 2.688 | G27: =SQRT(E27^2+F27^2) -> 4.48 | H27: =IF(E27=0,"",SQRT((36^2)+(24^2))/SQRT((E27^2)+(F27^2))) -> 9.6577266 | I27: 640 | J27: x | K27: 480 | L27: =IF(H27=0,"",I27*K27/10^6) -> 0.3072 | M27: 5.6 | N27: x | O27: 5.6 | P27: =E27/(M27*10^(-3)) -> 640 | Q27: x | R27: =F27/(O27*10^(-3)) -> 480 | S27: =P27-I27 -> 0 | T27: =R27-K27 -> 0
B28: LOGITECH | C28: Quick Cam 4000 | D28: CCD | E28: =M28*10^(-3)*I28 -> 9.9459 | F28: =O28*10^(-3)*K28 -> 7.58664 | G28: =SQRT(E28^2+F28^2) -> 12.509118 | H28: =IF(E28=0,"",SQRT((36^2)+(24^2))/SQRT((E28^2)+(F28^2))) -> 3.4588062 | I28: 1290 | J28: x | K28: 984 | L28: =IF(H28=0,"",I28*K28/10^6) -> 1.26936 | M28: 7.71 | N28: x | O28: =M28 -> 7.71 | P28: =E28/(M28*10^(-3)) -> 1290 | Q28: x | R28: =F28/(O28*10^(-3)) -> 984 | S28: =P28-I28 -> 0 | T28: =R28-K28 -> 0
B29: LUMENERA | C29: SkyNyx 2.0 | D29: CCD | E29: =M29*10^(-3)*I29 -> 4.736 | F29: =O29*10^(-3)*K29 -> 3.552 | G29: =SQRT(E29^2+F29^2) -> 5.92 | H29: =IF(E29=0,"",SQRT((36^2)+(24^2))/SQRT((E29^2)+(F29^2))) -> 7.3085499 | I29: 640 | J29: x | K29: 480 | L29: =IF(H29=0,"",I29*K29/10^6) -> 0.3072 | M29: 7.4 | N29: x | O29: 7.4 | P29: =E29/(M29*10^(-3)) -> 640 | Q29: x | R29: =F29/(O29*10^(-3)) -> 480 | S29: =P29-I29 -> 0 | T29: =R29-K29 -> 0 | U29: ICX424
B30: LUNATICO | C30: QHY5 | D30: CMOS | E30: =M30*10^(-3)*I30 -> 6.656 | F30: =O30*10^(-3)*K30 -> 5.3248 | G30: =SQRT(E30^2+F30^2) -> 8.523839 | H30: =IF(E30=0,"",SQRT((36^2)+(24^2))/SQRT((E30^2)+(F30^2))) -> 5.0759541 | I30: 1280 | J30: x | K30: 1024 | L30: =IF(H30=0,"",I30*K30/10^6) -> 1.31072 | M30: 5.2 | N30: x | O30: 5.2 | P30: =E30/(M30*10^(-3)) -> 1280 | R30: =F30/(O30*10^(-3)) -> 1024 | S30: =P30-I30 -> 0 | T30: =R30-K30 -> 0 | U30: MT9M001
B31: LUNATICO | C31: QHY 5L II | D31: CMOS | E31: =M31*10^(-3)*I31 -> 4.8 | F31: =O31*10^(-3)*K31 -> 3.6 | G31: =SQRT(E31^2+F31^2) -> 6 | H31: =IF(E31=0,"",SQRT((36^2)+(24^2))/SQRT((E31^2)+(F31^2))) -> 7.2111026 | I31: 1280 | J31: x | K31: 960 | L31: =IF(H31=0,"",I31*K31/10^6) -> 1.2288 | M31: 3.75 | N31: x | O31: 3.75 | U31: MT9M034
B32: LUNATICO | C32: QHY5PII | D32: CMOS | E32: =M32*10^(-3)*I32 -> 5.7024 | F32: =O32*10^(-3)*K32 -> 4.2768 | G32: =SQRT(E32^2+F32^2) -> 7.128 | H32: =IF(E32=0,"",SQRT((36^2)+(24^2))/SQRT((E32^2)+(F32^2))) -> 6.0699516 | I32: 2592 | J32: x | K32: 1944 | L32: =IF(H32=0,"",I32*K32/10^6) -> 5.038848 | M32: 2.2 | N32: x | O32: 2.2 | U32: MT9P031 mono
B33: LUNATICO | C33: QHY5III462C | D33: CMOS | E33: =M33*10^(-3)*I33 -> 5.568 | F33: =O33*10^(-3)*K33 -> 3.132 | G33: =SQRT(E33^2+F33^2) -> 6.3884308 | H33: =IF(E33=0,"",SQRT((36^2)+(24^2))/SQRT((E33^2)+(F33^2))) -> 6.7726515 | I33: 1920 | J33: x | K33: 1080 | L33: =IF(H33=0,"",I33*K33/10^6) -> 2.0736 | M33: 2.9 | N33: x | O33: 2.9 | U33: IMX462
B34: LUNATICO | C34: QHY585C | D34: CMOS | E34: =M34*10^(-3)*I34 -> 11.1824 | F34: =O34*10^(-3)*K34 -> 6.322 | G34: =SQRT(E34^2+F34^2) -> 12.845768 | H34: =IF(E34=0,"",SQRT((36^2)+(24^2))/SQRT((E34^2)+(F34^2))) -> 3.3681611 | I34: 3856 | J34: x | K34: 2180 | L34: =IF(H34=0,"",I34*K34/10^6) -> 8.40608 | M34: 2.9 | N34: x | O34: 2.9 | U34: IMX585
B35: LUNATICO | C35: QHY8 | D35: CCD | E35: =M35*10^(-3)*I35 -> 24.258 | F35: =O35*10^(-3)*K35 -> 15.834 | G35: =SQRT(E35^2+F35^2) -> 28.968364 | H35: =IF(E35=0,"",SQRT((36^2)+(24^2))/SQRT((E35^2)+(F35^2))) -> 1.4935816 | I35: 3110 | J35: x | K35: 2030 | L35: =IF(H35=0,"",I35*K35/10^6) -> 6.3133 | M35: 7.8 | N35: x | O35: 7.8 | U35: ICX413AQ
B36: LUNATICO | C36: QHY9 | D36: CCD | E36: =M36*10^(-3)*I36 -> 17.9604 | F36: =O36*10^(-3)*K36 -> 13.5216 | G36: =SQRT(E36^2+F36^2) -> 22.481317 | H36: =IF(E36=0,"",SQRT((36^2)+(24^2))/SQRT((E36^2)+(F36^2))) -> 1.9245587 | I36: 3326 | J36: x | K36: 2504 | L36: =IF(H36=0,"",I36*K36/10^6) -> 8.328304 | M36: 5.4 | N36: x | O36: 5.4 | U36: KAF8300CE
B37: LUNATICO | C37: QHY12 | D37: CCD | E37: =M37*10^(-3)*I37 -> 23.6032 | F37: =O37*10^(-3)*K37 -> 15.7696 | G37: =SQRT(E37^2+F37^2) -> 28.386464 | H37: =IF(E37=0,"",SQRT((36^2)+(24^2))/SQRT((E37^2)+(F37^2))) -> 1.5241988 | I37: 4610 | J37: x | K37: 3080 | L37: =IF(H37=0,"",I37*K37/10^6) -> 14.1988 | M37: 5.12 | N37: x | O37: 5.12
B38: MEADE | C38: LPI | D38: CMOS | E38: =M38*10^(-3)*I38 -> 5.184 | F38: =O38*10^(-3)*K38 -> 3.904 | G38: =SQRT(E38^2+F38^2) -> 6.4896126 | H38: =IF(E38=0,"",SQRT((36^2)+(24^2))/SQRT((E38^2)+(F38^2))) -> 6.6670567 | I38: 648 | J38: x | K38: 488 | L38: =IF(H38=0,"",I38*K38/10^6) -> 0.316224 | M38: 8 | N38: x | O38: 8 | P38: =E38/(M38*10^(-3)) -> 648 | Q38: x | R38: =F38/(O38*10^(-3)) -> 488 | S38: =P38-I38 -> 0 | T38: =R38-K38 -> 0
B39: MEADE | C39: PICTOR 416 | D39: CCD | E39: =M39*10^(-3)*I39 -> 6.89664 | F39: =O39*10^(-3)*K39 -> 5.1186 | G39: =SQRT(E39^2+F39^2) -> 8.5885802 | H39: =IF(E39=0,"",SQRT((36^2)+(24^2))/SQRT((E39^2)+(F39^2))) -> 5.0376913 | I39: 768 | J39: x | K39: 570 | L39: =IF(H39=0,"",I39*K39/10^6) -> 0.43776 | M39: 8.98 | N39: x | O39: =M39 -> 8.98 | P39: =E39/(M39*10^(-3)) -> 768 | Q39: x | R39: =F39/(O39*10^(-3)) -> 570 | S39: =P39-I39 -> 0 | T39: =R39-K39 -> 0
B40: MEADE | C40: DSI Pro II | D40: CCD | E40: =M40*10^(-3)*I40 -> 6.4672 | F40: =O40*10^(-3)*K40 -> 5.0052 | G40: =SQRT(E40^2+F40^2) -> 8.1778177 | H40: =IF(E40=0,"",SQRT((36^2)+(24^2))/SQRT((E40^2)+(F40^2))) -> 5.2907287 | I40: 752 | J40: x | K40: 582 | L40: =IF(H40=0,"",I40*K40/10^6) -> 0.437664 | M40: 8.6 | N40: x | O40: 8.6 | P40: =E40/(M40*10^(-3)) -> 752 | Q40: x | R40: =F40/(O40*10^(-3)) -> 582 | S40: =P40-I40 -> 0 | T40: =R40-K40 -> 0 | U40: ICX429ALL
B41: NIKON | C41: COOLPIX 4500 | D41: CCD | E41: =M41*10^(-3)*I41 -> 7.22904 | F41: =O41*10^(-3)*K41 -> 5.36952 | G41: =SQRT(E41^2+F41^2) -> 9.0050411 | H41: =IF(E41=0,"",SQRT((36^2)+(24^2))/SQRT((E41^2)+(F41^2))) -> 4.8047105 | I41: 2317 | J41: x | K41: 1721 | L41: =IF(H41=0,"",I41*K41/10^6) -> 3.987557 | M41: 3.12 | N41: x | O41: 3.12 | P41: =E41/(M41*10^(-3)) -> 2317 | Q41: x | R41: =F41/(O41*10^(-3)) -> 1721 | S41: =P41-I41 -> 0 | T41: =R41-K41 -> 0
B42: NIKON | C42: D70 | D42: CCD | E42: =M42*10^(-3)*I42 -> 23.49248 | F42: =O42*10^(-3)*K42 -> 15.59657 | G42: =SQRT(E42^2+F42^2) -> 28.198397 | H42: =IF(E42=0,"",SQRT((36^2)+(24^2))/SQRT((E42^2)+(F42^2))) -> 1.5343643 | I42: 3008 | J42: x | K42: 1997 | L42: =IF(H42=0,"",I42*K42/10^6) -> 6.006976 | M42: 7.81 | N42: x | O42: =M42 -> 7.81 | P42: =E42/(M42*10^(-3)) -> 3008 | Q42: x | R42: =F42/(O42*10^(-3)) -> 1997 | S42: =P42-I42 -> 0 | T42: =R42-K42 -> 0
B43: NIKON | C43: D570 | D43: CMOS | E43: =M43*10^(-3)*I43 -> 35.897472 | F43: =O43*10^(-3)*K43 -> 23.963472 | G43: =SQRT(E43^2+F43^2) -> 43.161053 | H43: =IF(E43=0,"",SQRT((36^2)+(24^2))/SQRT((E43^2)+(F43^2))) -> 1.0024458 | I43: 6016 | J43: x | K43: 4016 | L43: =IF(H43=0,"",I43*K43/10^6) -> 24.160256 | M43: 5.967 | N43: x | O43: =M43 -> 5.967
B44: OLYMPUS | C44: E-330 | D44: NMOS | E44: =M44*10^(-3)*I44 -> 17.9604 | F44: =O44*10^(-3)*K44 -> 13.5216 | G44: =SQRT(E44^2+F44^2) -> 22.481317 | H44: =IF(E44=0,"",SQRT((36^2)+(24^2))/SQRT((E44^2)+(F44^2))) -> 1.9245587 | I44: 3326 | J44: x | K44: 2504 | L44: =IF(H44=0,"",I44*K44/10^6) -> 8.328304 | M44: 5.4 | N44: x | O44: 5.4 | P44: =E44/(M44*10^(-3)) -> 3326 | Q44: x | R44: =F44/(O44*10^(-3)) -> 2504 | S44: =P44-I44 -> 0 | T44: =R44-K44 -> 0 | U44: KAF8300CE
B45: ORION | C45: StarShoot Pro | D45: CCD | E45: =M45*10^(-3)*I45 -> 23.6496 | F45: =O45*10^(-3)*K45 -> 15.7014 | G45: =SQRT(E45^2+F45^2) -> 28.387278 | H45: =IF(E45=0,"",SQRT((36^2)+(24^2))/SQRT((E45^2)+(F45^2))) -> 1.5241551 | I45: 3032 | J45: x | K45: 2013 | L45: =IF(H45=0,"",I45*K45/10^6) -> 6.103416 | M45: 7.8 | N45: x | O45: 7.8 | P45: =E45/(M45*10^(-3)) -> 3032 | Q45: x | R45: =F45/(O45*10^(-3)) -> 2013 | S45: =P45-I45 -> 0 | T45: =R45-K45 -> 0
B46: PANASONIC | C46: DMC-LC5 | D46: CCD | E46: =M46*10^(-3)*I46 -> 7.22904 | F46: =O46*10^(-3)*K46 -> 5.36952 | G46: =SQRT(E46^2+F46^2) -> 9.0050411 | H46: =IF(E46=0,"",SQRT((36^2)+(24^2))/SQRT((E46^2)+(F46^2))) -> 4.8047105 | I46: 2317 | J46: x | K46: 1721 | L46: =IF(H46=0,"",I46*K46/10^6) -> 3.987557 | M46: 3.12 | N46: x | O46: 3.12 | P46: =E46/(M46*10^(-3)) -> 2317 | Q46: x | R46: =F46/(O46*10^(-3)) -> 1721 | S46: =P46-I46 -> 0 | T46: =R46-K46 -> 0
B47: PENTAX | C47: IST DS | D47: CCD | E47: =M47*10^(-3)*I47 -> 23.49248 | F47: =O47*10^(-3)*K47 -> 15.6981 | G47: =SQRT(E47^2+F47^2) -> 28.25468 | H47: =IF(E47=0,"",SQRT((36^2)+(24^2))/SQRT((E47^2)+(F47^2))) -> 1.5313079 | I47: 3008 | J47: x | K47: 2010 | L47: =IF(H47=0,"",I47*K47/10^6) -> 6.04608 | M47: 7.81 | N47: x | O47: =M47 -> 7.81 | P47: =E47/(M47*10^(-3)) -> 3008 | Q47: x | R47: =F47/(O47*10^(-3)) -> 2010 | S47: =P47-I47 -> 0 | T47: =R47-K47 -> 0
B48: PHILIPS | C48: ToUcam Pro II | D48: CCD | E48: =M48*10^(-3)*I48 -> 3.584 | F48: =O48*10^(-3)*K48 -> 2.688 | G48: =SQRT(E48^2+F48^2) -> 4.48 | H48: =IF(E48=0,"",SQRT((36^2)+(24^2))/SQRT((E48^2)+(F48^2))) -> 9.6577266 | I48: 640 | J48: x | K48: 480 | L48: =IF(H48=0,"",I48*K48/10^6) -> 0.3072 | M48: 5.6 | N48: x | O48: 5.6 | P48: =E48/(M48*10^(-3)) -> 640 | Q48: x | R48: =F48/(O48*10^(-3)) -> 480 | S48: =P48-I48 -> 0 | T48: =R48-K48 -> 0 | U48: ICX098BQ
B49: RICOH | C49: RDC4200 | D49: CCD | E49: =M49*10^(-3)*I49 -> 9.9459 | F49: =O49*10^(-3)*K49 -> 7.58664 | G49: =SQRT(E49^2+F49^2) -> 12.509118 | H49: =IF(E49=0,"",SQRT((36^2)+(24^2))/SQRT((E49^2)+(F49^2))) -> 3.4588062 | I49: 1290 | J49: x | K49: 984 | L49: =IF(H49=0,"",I49*K49/10^6) -> 1.26936 | M49: 7.71 | N49: x | O49: =M49 -> 7.71 | P49: =E49/(M49*10^(-3)) -> 1290 | Q49: x | R49: =F49/(O49*10^(-3)) -> 984 | S49: =P49-I49 -> 0 | T49: =R49-K49 -> 0
B50: SBIG | C50: ST-2000XCM | D50: CCD | E50: =M50*10^(-3)*I50 -> 11.84 | F50: =O50*10^(-3)*K50 -> 8.88 | G50: =SQRT(E50^2+F50^2) -> 14.8 | H50: =IF(E50=0,"",SQRT((36^2)+(24^2))/SQRT((E50^2)+(F50^2))) -> 2.92342 | I50: 1600 | J50: x | K50: 1200 | L50: =IF(H50=0,"",I50*K50/10^6) -> 1.92 | M50: 7.4 | N50: x | O50: 7.4 | P50: =E50/(M50*10^(-3)) -> 1600 | Q50: x | R50: =F50/(O50*10^(-3)) -> 1200 | S50: =P50-I50 -> 0 | T50: =R50-K50 -> 0 | U50: KAI2020CM
B51: SBIG | C51: ST-7XM | D51: CCD | E51: =M51*10^(-3)*I51 -> 6.885 | F51: =O51*10^(-3)*K51 -> 4.59 | G51: =SQRT(E51^2+F51^2) -> 8.2747402 | H51: =IF(E51=0,"",SQRT((36^2)+(24^2))/SQRT((E51^2)+(F51^2))) -> 5.2287582 | I51: 765 | K51: 510 | L51: =IF(H51=0,"",I51*K51/10^6) -> 0.39015 | M51: 9 | N51: x | O51: 9 | P51: =E51/(M51*10^(-3)) -> 765 | Q51: x | R51: =F51/(O51*10^(-3)) -> 510 | S51: =P51-I51 -> 0 | T51: =R51-K51 -> 0 | U51: KAF0402ME
B52: SBIG | C52: ST-8XE | D52: CCD | E52: =M52*10^(-3)*I52 -> 13.797 | F52: =O52*10^(-3)*K52 -> 9.198 | G52: =SQRT(E52^2+F52^2) -> 16.58193 | H52: =IF(E52=0,"",SQRT((36^2)+(24^2))/SQRT((E52^2)+(F52^2))) -> 2.6092629 | I52: 1533 | J52: x | K52: 1022 | L52: =IF(H52=0,"",I52*K52/10^6) -> 1.566726 | M52: 9 | N52: x | O52: 9 | P52: =E52/(M52*10^(-3)) -> 1533 | Q52: x | R52: =F52/(O52*10^(-3)) -> 1022 | S52: =P52-I52 -> 0 | T52: =R52-K52 -> 0
B53: SBIG | C53: ST8-XME | D53: CCD | E53: =M53*10^(-3)*I53 -> 13.77 | F53: =O53*10^(-3)*K53 -> 9.18 | G53: =SQRT(E53^2+F53^2) -> 16.54948 | H53: =IF(E53=0,"",SQRT((36^2)+(24^2))/SQRT((E53^2)+(F53^2))) -> 2.6143791 | I53: 1530 | J53: x | K53: 1020 | L53: =IF(H53=0,"",I53*K53/10^6) -> 1.5606 | M53: 9 | N53: x | O53: 9 | P53: =E53/(M53*10^(-3)) -> 1530 | R53: =F53/(O53*10^(-3)) -> 1020 | S53: =P53-I53 -> 0 | T53: =R53-K53 -> 0 | U53: KAF-1603ME | V53: más Guía de 650x495 px de 7,4 mm
B54: SBIG | C54: ST-9E | D54: CCD | E54: =M54*10^(-3)*I54 -> 10.24 | F54: =O54*10^(-3)*K54 -> 10.24 | G54: =SQRT(E54^2+F54^2) -> 14.481547 | H54: =IF(E54=0,"",SQRT((36^2)+(24^2))/SQRT((E54^2)+(F54^2))) -> 2.9877067 | I54: 512 | J54: x | K54: 512 | L54: =IF(H54=0,"",I54*K54/10^6) -> 0.262144 | M54: 20 | N54: x | O54: 20 | P54: =E54/(M54*10^(-3)) -> 512 | R54: =F54/(O54*10^(-3)) -> 512 | S54: =P54-I54 -> 0 | T54: =R54-K54 -> 0 | U54: KAF0261E
B55: SBIG | C55: STL11000XM | D55: CCD | E55: =M55*10^(-3)*I55 -> 36.072 | F55: =O55*10^(-3)*K55 -> 24.048 | G55: =SQRT(E55^2+F55^2) -> 43.353149 | H55: =IF(E55=0,"",SQRT((36^2)+(24^2))/SQRT((E55^2)+(F55^2))) -> 0.99800399 | I55: 4008 | J55: x | K55: 2672 | L55: =IF(H55=0,"",I55*K55/10^6) -> 10.709376 | M55: 9 | N55: x | O55: 9 | P55: =E55/(M55*10^(-3)) -> 4008 | Q55: x | R55: =F55/(O55*10^(-3)) -> 2672 | S55: =P55-I55 -> 0 | T55: =R55-K55 -> 0
B56: SBIG | C56: STT 8300 | D56: CCD | E56: =M56*10^(-3)*I56 -> 17.9604 | F56: =O56*10^(-3)*K56 -> 13.5216 | G56: =SQRT(E56^2+F56^2) -> 22.481317 | H56: =IF(E56=0,"",SQRT((36^2)+(24^2))/SQRT((E56^2)+(F56^2))) -> 1.9245587 | I56: 3326 | J56: x | K56: 2504 | L56: =IF(H56=0,"",I56*K56/10^6) -> 8.328304 | M56: 5.4 | N56: x | O56: 5.4 | U56: KAF8300
B57: SONY | C57: DSC P100 | D57: CCD | E57: =M57*10^(-3)*I57 -> 22.70592 | F57: =O57*10^(-3)*K57 -> 15.10224 | G57: =SQRT(E57^2+F57^2) -> 27.269698 | H57: =IF(E57=0,"",SQRT((36^2)+(24^2))/SQRT((E57^2)+(F57^2))) -> 1.5866188 | I57: 2592 | J57: x | K57: 1724 | L57: =IF(H57=0,"",I57*K57/10^6) -> 4.468608 | M57: 8.76 | N57: x | O57: =M57 -> 8.76 | P57: =E57/(M57*10^(-3)) -> 2592 | Q57: x | R57: =F57/(O57*10^(-3)) -> 1724 | S57: =P57-I57 -> 0 | T57: =R57-K57 -> 0
B58: STARLIGHT | C58: MX716 | D58: CCD | E58: =M58*10^(-3)*I58 -> 6.2976 | F58: =O58*10^(-3)*K58 -> 4.7628 | G58: =SQRT(E58^2+F58^2) -> 7.8958236 | H58: =IF(E58=0,"",SQRT((36^2)+(24^2))/SQRT((E58^2)+(F58^2))) -> 5.4796837 | I58: 768 | J58: x | K58: 567 | L58: =IF(H58=0,"",I58*K58/10^6) -> 0.435456 | M58: 8.2 | N58: x | O58: 8.4 | P58: =E58/(M58*10^(-3)) -> 768 | Q58: x | R58: =F58/(O58*10^(-3)) -> 567 | S58: =P58-I58 -> 0 | T58: =R58-K58 -> 0 | U58: ICX429AL
B59: STARLIGHT | C59: SXV-M8C | D59: CCD | E59: =M59*10^(-3)*I59 -> 7.22904 | F59: =O59*10^(-3)*K59 -> 5.36952 | G59: =SQRT(E59^2+F59^2) -> 9.0050411 | H59: =IF(E59=0,"",SQRT((36^2)+(24^2))/SQRT((E59^2)+(F59^2))) -> 4.8047105 | I59: 2317 | J59: x | K59: 1721 | L59: =IF(H59=0,"",I59*K59/10^6) -> 3.987557 | M59: 3.12 | N59: x | O59: 3.12 | P59: =E59/(M59*10^(-3)) -> 2317 | Q59: x | R59: =F59/(O59*10^(-3)) -> 1721 | S59: =P59-I59 -> 0 | T59: =R59-K59 -> 0 | U59: ICX406AQ
B60: STARLIGHT | C60: SXV-H9C | D60: CCD | E60: =M60*10^(-3)*I60 -> 8.99775 | F60: =O60*10^(-3)*K60 -> 6.70155 | G60: =SQRT(E60^2+F60^2) -> 11.219192 | H60: =IF(E60=0,"",SQRT((36^2)+(24^2))/SQRT((E60^2)+(F60^2))) -> 3.8564822 | I60: 1395 | J60: x | K60: 1039 | L60: =IF(H60=0,"",I60*K60/10^6) -> 1.449405 | M60: 6.45 | N60: x | O60: 6.45 | P60: =E60/(M60*10^(-3)) -> 1395 | Q60: x | R60: =F60/(O60*10^(-3)) -> 1039 | S60: =P60-I60 -> 0 | T60: =R60-K60 -> 0 | U60: ICX285AL
B61: STARLIGHT | C61: SXVR-H18 | D61: CCD | E61: =M61*10^(-3)*I61 -> 17.9604 | F61: =O61*10^(-3)*K61 -> 13.5216 | G61: =SQRT(E61^2+F61^2) -> 22.481317 | H61: =IF(E61=0,"",SQRT((36^2)+(24^2))/SQRT((E61^2)+(F61^2))) -> 1.9245587 | I61: 3326 | J61: x | K61: 2504 | L61: =IF(H61=0,"",I61*K61/10^6) -> 8.328304 | M61: 5.4 | N61: x | O61: 5.4 | U61: KAF8300M
B62: STARLIGHT | C62: SXV-M25C | D62: CCD | E62: =M62*10^(-3)*I62 -> 23.5872 | F62: =O62*10^(-3)*K62 -> 15.7248 | G62: =SQRT(E62^2+F62^2) -> 28.348286 | H62: =IF(E62=0,"",SQRT((36^2)+(24^2))/SQRT((E62^2)+(F62^2))) -> 1.5262515 | I62: 3024 | J62: x | K62: 2016 | L62: =IF(H62=0,"",I62*K62/10^6) -> 6.096384 | M62: 7.8 | N62: x | O62: 7.8 | P62: =E62/(M62*10^(-3)) -> 3024 | Q62: x | R62: =F62/(O62*10^(-3)) -> 2016 | S62: =P62-I62 -> 0 | T62: =R62-K62 -> 0 | U62: ICX453AQ
B63: STARLIGHT | C63: SXVF-M25C | D63: CCD | E63: =M63*10^(-3)*I63 -> 23.5872 | F63: =O63*10^(-3)*K63 -> 15.7248 | G63: =SQRT(E63^2+F63^2) -> 28.348286 | H63: =IF(E63=0,"",SQRT((36^2)+(24^2))/SQRT((E63^2)+(F63^2))) -> 1.5262515 | I63: 3024 | J63: x | K63: 2016 | L63: =IF(H63=0,"",I63*K63/10^6) -> 6.096384 | M63: 7.8 | N63: x | O63: 7.8 | U63: ICX413AQ
B64: The Imaging Source | C64: DMK 21F04 | D64: CMOS | E64: =M64*10^(-3)*I64 -> 3.584 | F64: =O64*10^(-3)*K64 -> 2.688 | G64: =SQRT(E64^2+F64^2) -> 4.48 | H64: =IF(E64=0,"",SQRT((36^2)+(24^2))/SQRT((E64^2)+(F64^2))) -> 9.6577266 | I64: 640 | J64: x | K64: 480 | L64: =IF(H64=0,"",I64*K64/10^6) -> 0.3072 | M64: 5.6 | N64: x | O64: 5.6 | P64: =E64/(M64*10^(-3)) -> 640 | Q64: x | R64: =F64/(O64*10^(-3)) -> 480 | S64: =P64-I64 -> 0 | T64: =R64-K64 -> 0 | U64: ICX098BQ
B65: The Imaging Source | C65: DMK 21AU4AS | D65: CMOS | E65: =M65*10^(-3)*I65 -> 3.584 | F65: =O65*10^(-3)*K65 -> 2.688 | G65: =SQRT(E65^2+F65^2) -> 4.48 | H65: =IF(E65=0,"",SQRT((36^2)+(24^2))/SQRT((E65^2)+(F65^2))) -> 9.6577266 | I65: 640 | J65: x | K65: 480 | L65: =IF(H65=0,"",I65*K65/10^6) -> 0.3072 | M65: 5.6 | N65: x | O65: 5.6 | U65: ICX098BL
B66: The Imaging Source | C66: DMK21AU618 | D66: CMOS | E66: =M66*10^(-3)*I66 -> 3.584 | F66: =O66*10^(-3)*K66 -> 2.688 | G66: =SQRT(E66^2+F66^2) -> 4.48 | H66: =IF(E66=0,"",SQRT((36^2)+(24^2))/SQRT((E66^2)+(F66^2))) -> 9.6577266 | I66: 640 | J66: x | K66: 480 | L66: =IF(H66=0,"",I66*K66/10^6) -> 0.3072 | M66: 5.6 | N66: x | O66: 5.6 | U66: ICX618ALA
B67: The Imaging Source | C67: DMK31AU03 | D67: CMOS | E67: =M67*10^(-3)*I67 -> 4.7616 | F67: =O67*10^(-3)*K67 -> 3.5712 | G67: =SQRT(E67^2+F67^2) -> 5.952 | H67: =IF(E67=0,"",SQRT((36^2)+(24^2))/SQRT((E67^2)+(F67^2))) -> 7.2692566 | I67: 1024 | J67: x | K67: 768 | L67: =IF(H67=0,"",I67*K67/10^6) -> 0.786432 | M67: 4.65 | N67: x | O67: 4.65 | U67: ICX204AL | V67: B/W
B68: The Imaging Source | C68: DMK41AU02AS | D68: CMOS | E68: =M68*10^(-3)*I68 -> 5.952 | F68: =O68*10^(-3)*K68 -> 4.464 | G68: =SQRT(E68^2+F68^2) -> 7.44 | H68: =IF(E68=0,"",SQRT((36^2)+(24^2))/SQRT((E68^2)+(F68^2))) -> 5.8154053 | I68: 1280 | J68: x | K68: 960 | L68: =IF(H68=0,"",I68*K68/10^6) -> 1.2288 | M68: 4.65 | N68: x | O68: 4.65 | U68: ICX205AL | V68: B/W
B69: WATEC | C69: WAT-100N | D69: CCD | E69: =M69*10^(-3)*I69 -> 6.4672 | F69: =O69*10^(-3)*K69 -> 4.8306 | G69: =SQRT(E69^2+F69^2) -> 8.0721355 | H69: =IF(E69=0,"",SQRT((36^2)+(24^2))/SQRT((E69^2)+(F69^2))) -> 5.3599961 | I69: 752 | J69: x | K69: 582 | L69: =IF(H69=0,"",I69*K69/10^6) -> 0.437664 | M69: 8.6 | N69: x | O69: 8.3 | P69: =E69/(M69*10^(-3)) -> 752 | Q69: x | R69: =F69/(O69*10^(-3)) -> 582 | S69: =P69-I69 -> 0 | T69: =R69-K69 -> 0
B70: ZWO | C70: ASI120MM-S | D70: CMOS | E70: =M70*10^(-3)*I70 -> 4.8 | F70: =O70*10^(-3)*K70 -> 3.6 | G70: =SQRT(E70^2+F70^2) -> 6 | H70: =IF(E70=0,"",SQRT((36^2)+(24^2))/SQRT((E70^2)+(F70^2))) -> 7.2111026 | I70: 1280 | J70: x | K70: 960 | L70: =IF(H70=0,"",I70*K70/10^6) -> 1.2288 | M70: 3.75 | N70: x | O70: 3.75 | P70: =E70/(M70*10^(-3)) -> 1280 | Q70: x | R70: =F70/(O70*10^(-3)) -> 960 | S70: =P70-I70 -> 0 | T70: =R70-K70 -> 0 | U70: MT9M034 | V70: B/W
B71: ZWO | C71: ASI174MM | D71: CMOS | E71: =M71*10^(-3)*I71 -> 11.34496 | F71: =O71*10^(-3)*K71 -> 7.12576 | G71: =SQRT(E71^2+F71^2) -> 13.397185 | H71: =IF(E71=0,"",SQRT((36^2)+(24^2))/SQRT((E71^2)+(F71^2))) -> 3.2295303 | I71: 1936 | J71: x | K71: 1216 | L71: =IF(H71=0,"",I71*K71/10^6) -> 2.354176 | M71: 5.86 | N71: x | O71: 5.86 | P71: =E71/(M71*10^(-3)) -> 1936 | Q71: x | R71: =F71/(O71*10^(-3)) -> 1216 | S71: =P71-I71 -> 0 | T71: =R71-K71 -> 0 | U71: IMX174 | V71: B/W
B72: ZWO | C72: ASI178MC | D72: CMOS | E72: =M72*10^(-3)*I72 -> 7.4304 | F72: =O72*10^(-3)*K72 -> 4.992 | G72: =SQRT(E72^2+F72^2) -> 8.9515869 | H72: =IF(E72=0,"",SQRT((36^2)+(24^2))/SQRT((E72^2)+(F72^2))) -> 4.8334017 | I72: 3096 | J72: x | K72: 2080 | L72: =IF(H72=0,"",I72*K72/10^6) -> 6.43968 | M72: 2.4 | N72: x | O72: 2.4 | P72: =E72/(M72*10^(-3)) -> 3096 | R72: =F72/(O72*10^(-3)) -> 2080 | S72: =P72-I72 -> 0 | T72: =R72-K72 -> 0 | U72: IMX178 | V72: Color
B73: ZWO | C73: ASI183MM | D73: CMOS | E73: =M73*10^(-3)*I73 -> 13.1904 | F73: =O73*10^(-3)*K73 -> 8.8128 | G73: =SQRT(E73^2+F73^2) -> 15.863546 | H73: =IF(E73=0,"",SQRT((36^2)+(24^2))/SQRT((E73^2)+(F73^2))) -> 2.7274239 | I73: 5496 | J73: x | K73: 3672 | L73: =IF(H73=0,"",I73*K73/10^6) -> 20.181312 | M73: 2.4 | N73: x | O73: 2.4 | P73: =E73/(M73*10^(-3)) -> 5496 | Q73: x | R73: =F73/(O73*10^(-3)) -> 3672 | S73: =P73-I73 -> 0 | T73: =R73-K73 -> 0 | U73: IMX183CLK-J / CQJ-J | V73: B/W
B74: ZWO | C74: ASI224MC | D74: CMOS | E74: =M74*10^(-3)*I74 -> 4.89 | F74: =O74*10^(-3)*K74 -> 3.66 | G74: =SQRT(E74^2+F74^2) -> 6.1080029 | H74: =IF(E74=0,"",SQRT((36^2)+(24^2))/SQRT((E74^2)+(F74^2))) -> 7.0835944 | I74: 1304 | J74: x | K74: 976 | L74: =IF(H74=0,"",I74*K74/10^6) -> 1.272704 | M74: 3.75 | N74: x | O74: 3.75 | P74: =E74/(M74*10^(-3)) -> 1304 | Q74: x | R74: =F74/(O74*10^(-3)) -> 976 | S74: =P74-I74 -> 0 | T74: =R74-K74 -> 0 | U74: IMX224 | V74: Color
B75: ZWO | C75: ASI290MM | D75: CMOS | E75: =M75*10^(-3)*I75 -> 5.6144 | F75: =O75*10^(-3)*K75 -> 3.1784 | G75: =SQRT(E75^2+F75^2) -> 6.4516443 | H75: =IF(E75=0,"",SQRT((36^2)+(24^2))/SQRT((E75^2)+(F75^2))) -> 6.7062928 | I75: 1936 | J75: x | K75: 1096 | L75: =IF(H75=0,"",I75*K75/10^6) -> 2.121856 | M75: 2.9 | N75: x | O75: 2.9 | P75: =E75/(M75*10^(-3)) -> 1936 | R75: =F75/(O75*10^(-3)) -> 1096 | S75: =P75-I75 -> 0 | T75: =R75-K75 -> 0 | V75: B/W
B76: ZWO | C76: ASI294MM | D76: CMOS | E76: =M76*10^(-3)*I76 -> 19.18672 | F76: =O76*10^(-3)*K76 -> 13.06586 | G76: =SQRT(E76^2+F76^2) -> 23.213077 | H76: =IF(E76=0,"",SQRT((36^2)+(24^2))/SQRT((E76^2)+(F76^2))) -> 1.8638897 | I76: 4144 | J76: x | K76: 2822 | L76: =IF(H76=0,"",I76*K76/10^6) -> 11.694368 | M76: 4.63 | N76: x | O76: 4.63
B77: ZWO | C77: ASI462MC | D77: CMOS | E77: =M77*10^(-3)*I77 -> 5.6144 | F77: =O77*10^(-3)*K77 -> 3.1784 | G77: =SQRT(E77^2+F77^2) -> 6.4516443 | H77: =IF(E77=0,"",SQRT((36^2)+(24^2))/SQRT((E77^2)+(F77^2))) -> 6.7062928 | I77: 1936 | J77: x | K77: 1096 | L77: =IF(H77=0,"",I77*K77/10^6) -> 2.121856 | M77: 2.9 | N77: x | O77: 2.9 | V77: Color
B78: ZWO | C78: ASI585MC | D78: CMOS | E78: =M78*10^(-3)*I78 -> 11.136 | F78: =O78*10^(-3)*K78 -> 6.264 | G78: =SQRT(E78^2+F78^2) -> 12.776862 | H78: =IF(E78=0,"",SQRT((36^2)+(24^2))/SQRT((E78^2)+(F78^2))) -> 3.3863257 | I78: 3840 | J78: x | K78: 2160 | L78: =IF(H78=0,"",I78*K78/10^6) -> 8.2944 | M78: 2.9 | N78: x | O78: 2.9 | V78: Color
B79: ZWO | C79: ASI662MM | D79: CMOS | E79: =M79*10^(-3)*I79 -> 5.568 | F79: =O79*10^(-3)*K79 -> 3.132 | G79: =SQRT(E79^2+F79^2) -> 6.3884308 | H79: =IF(E79=0,"",SQRT((36^2)+(24^2))/SQRT((E79^2)+(F79^2))) -> 6.7726515 | I79: 1920 | J79: x | K79: 1080 | L79: =IF(H79=0,"",I79*K79/10^6) -> 2.0736 | M79: 2.9 | N79: x | O79: 2.9 | V79: B/W
B80: ZWO | C80: ASI678MC y MM | D80: CMOS | E80: =M80*10^(-3)*I80 -> 7.68 | F80: =O80*10^(-3)*K80 -> 4.32 | G80: =SQRT(E80^2+F80^2) -> 8.8116287 | H80: =IF(E80=0,"",SQRT((36^2)+(24^2))/SQRT((E80^2)+(F80^2))) -> 4.9101723 | I80: 3840 | J80: x | K80: 2160 | L80: =IF(H80=0,"",I80*K80/10^6) -> 8.2944 | M80: 2 | N80: x | O80: 2 | V80: Color y B/N
B81: ZWO | C81: ASI2600MM | D81: CMOS | E81: =M81*10^(-3)*I81 -> 23.43 | F81: =O81*10^(-3)*K81 -> 15.66 | G81: =SQRT(E81^2+F81^2) -> 28.181563 | H81: =IF(E81=0,"",SQRT((36^2)+(24^2))/SQRT((E81^2)+(F81^2))) -> 1.5352809 | I81: 6248 | J81: x | K81: 4176 | L81: =IF(H81=0,"",I81*K81/10^6) -> 26.091648 | M81: 3.75 | N81: x | O81: 3.75 | V81: B/W
B90: =TODAY() -> 44769
